BEGIN:VCALENDAR
VERSION:2.0
PRODID:-//Cunard Careers - ECPv4.9.13//NONSGML v1.0//EN
CALSCALE:GREGORIAN
METHOD:PUBLISH
X-WR-CALNAME:Cunard Careers
X-ORIGINAL-URL:https://www.cunardcareers.co.uk
X-WR-CALDESC:Events for Cunard Careers
BEGIN:VTIMEZONE
TZID:Europe/London
BEGIN:DAYLIGHT
TZOFFSETFROM:+0000
TZOFFSETTO:+0100
TZNAME:BST
DTSTART:20260329T010000
END:DAYLIGHT
BEGIN:STANDARD
TZOFFSETFROM:+0100
TZOFFSETTO:+0000
TZNAME:GMT
DTSTART:20261025T010000
END:STANDARD
END:VTIMEZONE
BEGIN:VEVENT
DTSTART;VALUE=DATE:20260221
DTEND;VALUE=DATE:20261118
DTSTAMP:20260421T104324
CREATED:20250212T075043Z
LAST-MODIFIED:20260206T175642Z
UID:3247-1771632000-1794959999@www.cunardcareers.co.uk
SUMMARY:Medical Open Days on board. Southampton\, Liverpool and Cork
DESCRIPTION:We’re delighted to invite you to one of our Medical Open Days taking place throughout 2026 across our fleet. It’s a great chance to discover more about our operation\, explore our facilities and get a real feel for what it’s like to live and work at sea.\nOnce you’re on board\, you’ll enjoy a guided tour of the medical centre and crew areas\, meet the team and take a look around guest venues. You’ll then join us for a relaxed presentation with tea\, coffee and pastries. \nAs part of our medical team\, you’ll have the opportunity to work across both Cunard and P&O Cruises ships – a brilliant way to experience different ships\, destinations and moments that make working at sea so unique. \n\n\n\nDate (09:30 – 14:00)\nPort\nShip\n\n\nSaturday 21 February\nSouthampton\nP&O Cruises\, Iona\n\n\nSaturday 25 April\nSouthampton\nP&O Cruises\, Iona\n\n\nFriday 22 May\nSouthampton\nCunard\, Queen Mary 2\n\n\nWednesday 17 June\nLiverpool\nCunard\, Queen Anne\n\n\nSunday 5 July\nCork\nP&O Cruises\, Britannia\n\n\nFriday 18 September\nSouthampton\nP&O Cruises\, Britannia\n\n\nTuesday 13 October\nSouthampton\nCunard\, Queen Anne\n\n\nTuesday 17 November\nSouthampton\nP&O Cruises\, Ventura\n\n\n\nRegister for your place here – Carnival UK – Medical Open Day – Fill in form\nTo embark our ships\, you need to provide a valid form of photographic identification to the medical team prior to attending. Please do not turn up on the day of the event without receiving a confirmation e-mail of attendance as you will be denied entry to the ship. \nLearn more about working in the medical team. \n  \n
URL:https://www.cunardcareers.co.uk/event/12-september-2025-medical-open-day-on-board-britannia/
CATEGORIES:Medical open day
ATTACH;FMTTYPE=image/jpeg:https://www.cunardcareers.co.uk/wp-content/uploads/Medics-12_RT-scaled.jpg
END:VEVENT
END:VCALENDAR